BEGIN:VCALENDAR
VERSION:2.0
PRODID:-//Coastline - ECPv6.15.20//NONSGML v1.0//EN
CALSCALE:GREGORIAN
METHOD:PUBLISH
X-WR-CALNAME:Coastline
X-ORIGINAL-URL:https://coastlinenb.org
X-WR-CALDESC:Events for Coastline
REFRESH-INTERVAL;VALUE=DURATION:PT1H
X-Robots-Tag:noindex
X-PUBLISHED-TTL:PT1H
BEGIN:VTIMEZONE
TZID:UTC
BEGIN:STANDARD
TZOFFSETFROM:+0000
TZOFFSETTO:+0000
TZNAME:UTC
DTSTART:20240101T000000
END:STANDARD
END:VTIMEZONE
BEGIN:VEVENT
DTSTART;TZID=UTC:20250613T090000
DTEND;TZID=UTC:20250613T120000
DTSTAMP:20260425T035338
CREATED:20250523T172005Z
LAST-MODIFIED:20250523T172005Z
UID:9026-1749805200-1749816000@coastlinenb.org
SUMMARY:Celebration of Seniors
DESCRIPTION:The largest event for older adults in the South Coast returns in 2025 on Friday\, June 13 at White’s of Westport. Join the hundreds of aging professionals and older people for Celebration of Seniors from 9 a.m. to noon including a free breakfast\, informational speakers\, vendor fair\, and giveaways. \nTo sign up for the breakfast\, call or email Brian Rose\, Bristol County District Attorney’s Community Affairs Manager at 508-961-1972 or Brian.Rose@mass.gov. \nVendor space is full. To join the waiting list or for questions\, please contact Natacha Salemme at NSalemme@CoastlineNB.org or 508-742-9113
URL:https://coastlinenb.org/event/celebration-of-seniors-2/
LOCATION:White’s of Westport\, 66 State Road\, Westport\, MA\, 02790\, United States
END:VEVENT
END:VCALENDAR