BEGIN:VCALENDAR
VERSION:2.0
PRODID:-//Coastline - ECPv6.15.20//NONSGML v1.0//EN
CALSCALE:GREGORIAN
METHOD:PUBLISH
X-WR-CALNAME:Coastline
X-ORIGINAL-URL:https://coastlinenb.org
X-WR-CALDESC:Events for Coastline
REFRESH-INTERVAL;VALUE=DURATION:PT1H
X-Robots-Tag:noindex
X-PUBLISHED-TTL:PT1H
BEGIN:VTIMEZONE
TZID:UTC
BEGIN:STANDARD
TZOFFSETFROM:+0000
TZOFFSETTO:+0000
TZNAME:UTC
DTSTART:20240101T000000
END:STANDARD
END:VTIMEZONE
BEGIN:VEVENT
DTSTART;TZID=UTC:20251003T100000
DTEND;TZID=UTC:20251121T120000
DTSTAMP:20260422T182034
CREATED:20250815T140232Z
LAST-MODIFIED:20250815T144320Z
UID:9346-1759485600-1763726400@coastlinenb.org
SUMMARY:Matter of Balance free weekly class
DESCRIPTION:Join us for a FREE two-hour\, once-a-week Matter of Balance workshop from 10 a.m. to noon beginning Oct. 3 and continuing until Nov. 21. This workshop will teach you strength and balancing exercises to help reduce falls. In addition\, you will: \n\nDevelop personal strategies for fall prevention\nMeet others who are dealing with similar concerns\nMake changes in your daily life to help prevent falls\n\nClasses will be held once per week at Coastline\, 863 Belleville Ave.\, New Bedford. For details and to sign up\, call Rachel Fouts at 774-510-5224.
URL:https://coastlinenb.org/event/matter-of-balance-free-weekly-class/
LOCATION:Coastline Elderly Services\, 863 Belleville Avenue\, New Bedford\, MA\, 02745\, United States
END:VEVENT
END:VCALENDAR