BEGIN:VCALENDAR
VERSION:2.0
PRODID:-//Coastline - ECPv6.15.20//NONSGML v1.0//EN
CALSCALE:GREGORIAN
METHOD:PUBLISH
X-ORIGINAL-URL:https://coastlinenb.org
X-WR-CALDESC:Events for Coastline
REFRESH-INTERVAL;VALUE=DURATION:PT1H
X-Robots-Tag:noindex
X-PUBLISHED-TTL:PT1H
BEGIN:VTIMEZONE
TZID:UTC
BEGIN:STANDARD
TZOFFSETFROM:+0000
TZOFFSETTO:+0000
TZNAME:UTC
DTSTART:20250101T000000
END:STANDARD
END:VTIMEZONE
BEGIN:VEVENT
DTSTART;TZID=UTC:20260424T100000
DTEND;TZID=UTC:20260612T120000
DTSTAMP:20260421T000035
CREATED:20260225T203943Z
LAST-MODIFIED:20260226T191024Z
UID:10105-1777024800-1781265600@coastlinenb.org
SUMMARY:Matter of Balance
DESCRIPTION:Come learn to prevent falls and increase balance\, strength and flexibility in this 8-session class at Coastline. \nFor questions or to sign up\, call Rachel Fouts at 774-510-5224.
URL:https://coastlinenb.org/event/matter-of-balance/
LOCATION:Coastline Elderly Services\, 863 Belleville Avenue\, New Bedford\, MA\, 02745\, United States
ATTACH;FMTTYPE=image/png:https://coastlinenb.org/wp-content/uploads/2026/02/Matter-of-Balance-Spring-2025.pdf-2.png
END:VEVENT
BEGIN:VEVENT
DTSTART;TZID=UTC:20260502T090000
DTEND;TZID=UTC:20260502T103000
DTSTAMP:20260421T000035
CREATED:20260414T185636Z
LAST-MODIFIED:20260414T190641Z
UID:10252-1777712400-1777717800@coastlinenb.org
SUMMARY:Kick off Older Americans Month with Coastline and Walk with a Doc!
DESCRIPTION:Coastline will join Walk with a Doc to kick off Older Americans Month with an easy\, social walk around Buttonwood Park. The free event celebrates healthy aging\, staying active and continuing to connect with friends and loved ones in our later years.  \nJoin us at 9 a.m. on May 2 for this established healthy walking program from Walk with a Doc and New Bedford Wellness and learn more about local support for aging independently. We’ll meet at the entrance to the Buttonwood Park Zoo for a brief conversation before walking. \n 
URL:https://coastlinenb.org/event/walk-for-older-americans-month/
LOCATION:Buttonwood Park New Bedford\, 425 Hawthorn St.\, New Bedford\, MA\, 02745\, United States
END:VEVENT
END:VCALENDAR