BEGIN:VCALENDAR
VERSION:2.0
PRODID:-//Coastline - ECPv6.15.20//NONSGML v1.0//EN
CALSCALE:GREGORIAN
METHOD:PUBLISH
X-ORIGINAL-URL:https://coastlinenb.org
X-WR-CALDESC:Events for Coastline
REFRESH-INTERVAL;VALUE=DURATION:PT1H
X-Robots-Tag:noindex
X-PUBLISHED-TTL:PT1H
BEGIN:VTIMEZONE
TZID:UTC
BEGIN:STANDARD
TZOFFSETFROM:+0000
TZOFFSETTO:+0000
TZNAME:UTC
DTSTART:20180101T000000
END:STANDARD
END:VTIMEZONE
BEGIN:VEVENT
DTSTART;TZID=UTC:20190418T100000
DTEND;TZID=UTC:20190418T150000
DTSTAMP:20260421T020321
CREATED:20190223T154852Z
LAST-MODIFIED:20190223T154852Z
UID:4093-1555581600-1555599600@coastlinenb.org
SUMMARY:SouthCoast Job Fair
DESCRIPTION:Visit the SouthCoast Job Fair on April 18 from 10 a.m. to 3 p.m.\, at New Bedford Voc-Tech. \nAdmission is FREE for those with a résumé.
URL:https://coastlinenb.org/event/southcoast-job-fair/
END:VEVENT
BEGIN:VEVENT
DTSTART;TZID=UTC:20190417T133000
DTEND;TZID=UTC:20190417T153000
DTSTAMP:20260421T020321
CREATED:20190211T143926Z
LAST-MODIFIED:20190211T143926Z
UID:4075-1555507800-1555515000@coastlinenb.org
SUMMARY:Savvy Caregiver Program
DESCRIPTION:The Savvy Caregiver is a 12-hour training program delivered in two-hour sessions over a six-week period. \n\n\nThe program is focused on providing instructional material for Alzheimer’s and dementia caregivers. The program teaches the basic knowledge\, skills and attitudes needed to handle the challenges of caring for someone with Alzheimer’s disease. Results have shown the training program reduces Alzheimer caregiver’s distress effectively. \nThe Savvy Caregiver Program will run from April 10 to May 15 from 1:30 to 3:30 p.m. at Dartmouth Council on Aging. To register please call Coastline at 508-999-6400.
URL:https://coastlinenb.org/event/savvy-caregiver-program-2/
END:VEVENT
BEGIN:VEVENT
DTSTART;TZID=UTC:20190417T130000
DTEND;TZID=UTC:20190417T150000
DTSTAMP:20260421T020321
CREATED:20190104T192150Z
LAST-MODIFIED:20190104T192150Z
UID:3972-1555506000-1555513200@coastlinenb.org
SUMMARY:A Matter of Balance
DESCRIPTION:A MATTER OF BALANCE: Many older adults experience concerns about falling and restrict their activities. A MATTER OF BALANCE is an award-winning\, eight-week Evidence-Based Program designed to manage falls and increase activity levels. The class will run on Tuesdays starting January 15\, 2019 for eight weeks at the Buttonwood Senior Center. The program is free. To learn more about this FREE workshop\, contact Tanisha J. Washington of Community Nurse Home Care at 508-717-0714 or twashington@communitynurse.com. The workshops are made possible by Title III Funding through Coastline Elderly Services and the Massachusetts Executive Office of Elder Affairs.
URL:https://coastlinenb.org/event/a-matter-of-balance-10/
END:VEVENT
BEGIN:VEVENT
DTSTART;TZID=UTC:20190415T093000
DTEND;TZID=UTC:20190415T113000
DTSTAMP:20260421T020321
CREATED:20190104T152311Z
LAST-MODIFIED:20190104T152311Z
UID:3945-1555320600-1555327800@coastlinenb.org
SUMMARY:Self-Improvement Classes
DESCRIPTION:Self-Improvement Classes are presented by Buzzards Bay Speech Therapy. The classes are intended for adults who are experiencing challenges in memory\, self expression\, speech clarity\, independent living or social connectedness. Funding for this program is provided by Coastline. The classes are held at North Dartmouth Super Stop and Shop\, 2nd floor\, 25 Faunce Corner Road\, N. Dartmouth. Classes are scheduled Mondays from 9:30 to 11:30 a.m. The 2019 Schedule: April 1\, 8\, 15; May 6\, 13\, 20; June 3\, 10\, 17. Questions? Call 508-326-0353 or email lycslp@gmail.com. Facebook: @buzzardsbayspeech
URL:https://coastlinenb.org/event/self-improvement-classes-12/
END:VEVENT
BEGIN:VEVENT
DTSTART;TZID=UTC:20190412T140000
DTEND;TZID=UTC:20190412T150000
DTSTAMP:20260421T020321
CREATED:20190402T155626Z
LAST-MODIFIED:20190402T155626Z
UID:4145-1555077600-1555081200@coastlinenb.org
SUMMARY:Bench Dedication
DESCRIPTION:Please join District Attorney Thomas M. Quinn III at the Dartmouth Council on Aging on Friday\, April 12th at 2 p.m. \nThe DA’s Office will be dedicating two benches to the senior center in honor of National Crime Victims’ Awareness Week. The Dartmouth Council on Aging is located at 628 Dartmouth Street\, Dartmouth\, MA 02748.
URL:https://coastlinenb.org/event/bench-dedication/
END:VEVENT
BEGIN:VEVENT
DTSTART;TZID=UTC:20190412T110000
DTEND;TZID=UTC:20190412T130000
DTSTAMP:20260421T020321
CREATED:20190223T154608Z
LAST-MODIFIED:20190223T154608Z
UID:4092-1555066800-1555074000@coastlinenb.org
SUMMARY:Health Fair at Buttonwood Senior Center
DESCRIPTION:Health Fair at the Buttonwood Senior Center\nApril 12 from 11 a.m. to 1 p.m. \nThe health fair will have food\, activities\, vendors and a visit from the Southcoast Wellness Van.
URL:https://coastlinenb.org/event/health-fair-at-buttonwood-senior-center/
END:VEVENT
BEGIN:VEVENT
DTSTART;TZID=UTC:20190410T133000
DTEND;TZID=UTC:20190410T153000
DTSTAMP:20260421T020321
CREATED:20190208T212339Z
LAST-MODIFIED:20190208T212339Z
UID:4068-1554903000-1554910200@coastlinenb.org
SUMMARY:Savvy Caregiver Program
DESCRIPTION:The Savvy Caregiver is a 12-hour training program delivered in two-hour sessions over a six-week period. \n\n\nThe program is focused on providing instructional material for Alzheimer’s and dementia caregivers. The program teaches the basic knowledge\, skills and attitudes needed to handle the challenges of caring for someone with Alzheimer’s disease. Results have shown the training program reduces Alzheimer caregiver’s distress effectively. \nThe Savvy Caregiver Program will run from April 10 to May 15 from 1:30 to 3:30 p.m. at Dartmouth Council on Aging. To register please call Coastline at 508-999-6400.
URL:https://coastlinenb.org/event/savvy-caregiver-program/
END:VEVENT
BEGIN:VEVENT
DTSTART;TZID=UTC:20190410T130000
DTEND;TZID=UTC:20190410T150000
DTSTAMP:20260421T020321
CREATED:20190104T192042Z
LAST-MODIFIED:20190104T192042Z
UID:3970-1554901200-1554908400@coastlinenb.org
SUMMARY:A Matter of Balance
DESCRIPTION:A MATTER OF BALANCE: Many older adults experience concerns about falling and restrict their activities. A MATTER OF BALANCE is an award-winning\, eight-week Evidence-Based Program designed to manage falls and increase activity levels. The class will run on Wednesdays starting April 10\, 2019 for eight weeks at the Buttonwood Senior Center. The program is free. To learn more about this FREE workshop\, contact Tanisha J. Washington of Community Nurse Home Care at 508-717-0714 or twashington@communitynurse.com. The workshops are made possible by Title III Funding through Coastline Elderly Services and the Massachusetts Executive Office of Elder Affairs.
URL:https://coastlinenb.org/event/a-matter-of-balance-9/
END:VEVENT
BEGIN:VEVENT
DTSTART;TZID=UTC:20190409T130000
DTEND;TZID=UTC:20190409T140000
DTSTAMP:20260421T020321
CREATED:20190104T191443Z
LAST-MODIFIED:20190104T191443Z
UID:3969-1554814800-1554818400@coastlinenb.org
SUMMARY:My Life\, My Health
DESCRIPTION:MY LIFE\, MY HEALTH is a six-week\, evidence-based program that has helped thousands of people with chronic health conditions – such as heart disease\, COPD\, diabetes\, high blood pressure\, asthma\, arthritis\, kidney disease and depression –  take control of their health and achieve a better quality of life. The program will be held Tuesdays at 1 p.m. starting March 5th. To learn more about this FREE workshop\, contact Tanisha J. Washington of Community Nurse Home Care at 508-717-0714. Workshops made possible by Title III Funding through Coastline Elderly Services and the Massachusetts Executive Office of Elder Affairs.
URL:https://coastlinenb.org/event/my-life-my-health-6/
END:VEVENT
BEGIN:VEVENT
DTSTART;TZID=UTC:20190408T093000
DTEND;TZID=UTC:20190408T113000
DTSTAMP:20260421T020321
CREATED:20190104T152118Z
LAST-MODIFIED:20190104T152118Z
UID:3944-1554715800-1554723000@coastlinenb.org
SUMMARY:Self-Improvement Classes
DESCRIPTION:Self-Improvement Classes are presented by Buzzards Bay Speech Therapy. The classes are intended for adults who are experiencing challenges in memory\, self expression\, speech clarity\, independent living or social connectedness. Funding for this program is provided by Coastline. The classes are held at North Dartmouth Super Stop and Shop\, 2nd floor\, 25 Faunce Corner Road\, N. Dartmouth. Classes are scheduled Mondays from 9:30 to 11:30 a.m. The 2019 Schedule: April 1\, 8\, 15; May 6\, 13\, 20; June 3\, 10\, 17. Questions? Call 508-326-0353 or email lycslp@gmail.com. Facebook: @buzzardsbayspeech
URL:https://coastlinenb.org/event/self-improvement-classes-11/
END:VEVENT
BEGIN:VEVENT
DTSTART;TZID=UTC:20190404T100000
DTEND;TZID=UTC:20190404T113000
DTSTAMP:20260421T020321
CREATED:20190223T154033Z
LAST-MODIFIED:20190223T154033Z
UID:4090-1554372000-1554377400@coastlinenb.org
SUMMARY:Free Oral Cancer Screening
DESCRIPTION:In April\, there will be two FREE oral cancer screening/educational events from 10-11:30 a.m. \nLunch will be provided; includes bingo with prizes\, presentations\nand financial info. The public is welcome. \nApril 4th at Caroline Street Apartments\n26 Caroline Street\, New Bedford
URL:https://coastlinenb.org/event/free-oral-cancer-screening-2/
END:VEVENT
BEGIN:VEVENT
DTSTART;TZID=UTC:20190403T100000
DTEND;TZID=UTC:20190403T113000
DTSTAMP:20260421T020321
CREATED:20190223T153852Z
LAST-MODIFIED:20190223T153852Z
UID:4088-1554285600-1554291000@coastlinenb.org
SUMMARY:Free Oral Cancer Screening
DESCRIPTION:In April\, there will be two FREE oral cancer screening/educational events from 10-11:30 a.m. \nLunch will be provided; includes bingo with prizes\, presentations\nand financial info. The public is welcome. \nFirst Date: April 3rd at BOA Vista (use side door)\n134 So. 2nd Street\, New Bedford \nSecond Date: April 4th at Caroline Street Apartments\n26 Caroline Street\, New Bedford
URL:https://coastlinenb.org/event/free-oral-cancer-screening/
END:VEVENT
BEGIN:VEVENT
DTSTART;TZID=UTC:20190402T130000
DTEND;TZID=UTC:20190402T140000
DTSTAMP:20260421T020321
CREATED:20190104T191404Z
LAST-MODIFIED:20190104T191404Z
UID:3968-1554210000-1554213600@coastlinenb.org
SUMMARY:My Life\, My Health
DESCRIPTION:MY LIFE\, MY HEALTH is a six-week\, evidence-based program that has helped thousands of people with chronic health conditions – such as heart disease\, COPD\, diabetes\, high blood pressure\, asthma\, arthritis\, kidney disease and depression –  take control of their health and achieve a better quality of life. The program will be held Tuesdays at 1 p.m. starting March 5th. To learn more about this FREE workshop\, contact Tanisha J. Washington of Community Nurse Home Care at 508-717-0714. Workshops made possible by Title III Funding through Coastline Elderly Services and the Massachusetts Executive Office of Elder Affairs.
URL:https://coastlinenb.org/event/my-life-my-health-5/
END:VEVENT
BEGIN:VEVENT
DTSTART;TZID=UTC:20190401T093000
DTEND;TZID=UTC:20190401T113000
DTSTAMP:20260421T020321
CREATED:20190104T151648Z
LAST-MODIFIED:20190104T151648Z
UID:3943-1554111000-1554118200@coastlinenb.org
SUMMARY:Self-Improvement Classes
DESCRIPTION:Self-Improvement Classes are presented by Buzzards Bay Speech Therapy. The classes are intended for adults who are experiencing challenges in memory\, self expression\, speech clarity\, independent living or social connectedness. Funding for this program is provided by Coastline. The classes are held at North Dartmouth Super Stop and Shop\, 2nd floor\, 25 Faunce Corner Road\, N. Dartmouth. Classes are scheduled Mondays from 9:30 to 11:30 a.m. The 2019 Schedule: April 1\, 8\, 15; May 6\, 13\, 20; June 3\, 10\, 17. Questions? Call 508-326-0353 or email lycslp@gmail.com. Facebook: @buzzardsbayspeech
URL:https://coastlinenb.org/event/self-improvement-classes-10/
END:VEVENT
BEGIN:VEVENT
DTSTART;TZID=UTC:20190326T130000
DTEND;TZID=UTC:20190326T140000
DTSTAMP:20260421T020321
CREATED:20190104T191308Z
LAST-MODIFIED:20190104T191308Z
UID:3967-1553605200-1553608800@coastlinenb.org
SUMMARY:My Life\, My Health
DESCRIPTION:MY LIFE\, MY HEALTH is a six-week\, evidence-based program that has helped thousands of people with chronic health conditions – such as heart disease\, COPD\, diabetes\, high blood pressure\, asthma\, arthritis\, kidney disease and depression –  take control of their health and achieve a better quality of life. The program will be held Tuesdays at 1 p.m. starting March 5th. To learn more about this FREE workshop\, contact Tanisha J. Washington of Community Nurse Home Care at 508-717-0714. Workshops made possible by Title III Funding through Coastline Elderly Services and the Massachusetts Executive Office of Elder Affairs.
URL:https://coastlinenb.org/event/my-life-my-health-4/
END:VEVENT
BEGIN:VEVENT
DTSTART;TZID=UTC:20190326T110000
DTEND;TZID=UTC:20190326T210000
DTSTAMP:20260421T020321
CREATED:20190307T192013Z
LAST-MODIFIED:20190307T192013Z
UID:4120-1553598000-1553634000@coastlinenb.org
SUMMARY:Dining For a Cause
DESCRIPTION:Coastline will be holding a “Dining For a Cause” fundraiser on March 26th at the 99 Restaurant & Pub in Fairhaven. If you present the voucher below at this fundraiser\, the restaurant will donate 15% of your check to Coastline. \nThe fundraiser is taking place from 11 a.m. to 9 p.m. 99 Restaurant & Pub is located at 34 Sconticut Neck Road\, Fairhaven\, MA 02719.
URL:https://coastlinenb.org/event/dining-for-a-cause/
END:VEVENT
BEGIN:VEVENT
DTSTART;TZID=UTC:20190319T130000
DTEND;TZID=UTC:20190319T140000
DTSTAMP:20260421T020321
CREATED:20190104T191218Z
LAST-MODIFIED:20190104T191218Z
UID:3966-1553000400-1553004000@coastlinenb.org
SUMMARY:My Life\, My Health
DESCRIPTION:MY LIFE\, MY HEALTH is a six-week\, evidence-based program that has helped thousands of people with chronic health conditions – such as heart disease\, COPD\, diabetes\, high blood pressure\, asthma\, arthritis\, kidney disease and depression –  take control of their health and achieve a better quality of life. The program will be held Tuesdays at 1 p.m. starting March 5th. To learn more about this FREE workshop\, contact Tanisha J. Washington of Community Nurse Home Care at 508-717-0714. Workshops made possible by Title III Funding through Coastline Elderly Services and the Massachusetts Executive Office of Elder Affairs.
URL:https://coastlinenb.org/event/my-life-my-health-3/
END:VEVENT
BEGIN:VEVENT
DTSTART;TZID=UTC:20190318T093000
DTEND;TZID=UTC:20190318T113000
DTSTAMP:20260421T020321
CREATED:20190104T151448Z
LAST-MODIFIED:20190104T151448Z
UID:3942-1552901400-1552908600@coastlinenb.org
SUMMARY:Self-Improvement Classes
DESCRIPTION:Self-Improvement Classes are presented by Buzzards Bay Speech Therapy. The classes are intended for adults who are experiencing challenges in memory\, self expression\, speech clarity\, independent living or social connectedness. Funding for this program is provided by Coastline. The classes are held at North Dartmouth Super Stop and Shop\, 2nd floor\, 25 Faunce Corner Road\, N. Dartmouth. Classes are scheduled Mondays from 9:30 to 11:30 a.m. The 2019 Schedule: March 4\, 11\, 18; April 1\, 8\, 15; May 6\, 13\, 20; June 3\, 10\, 17. Questions? Call 508-326-0353 or email lycslp@gmail.com. Facebook: @buzzardsbayspeech
URL:https://coastlinenb.org/event/self-improvement-classes-9/
END:VEVENT
BEGIN:VEVENT
DTSTART;TZID=UTC:20190312T130000
DTEND;TZID=UTC:20190312T140000
DTSTAMP:20260421T020321
CREATED:20190104T191133Z
LAST-MODIFIED:20190104T191133Z
UID:3965-1552395600-1552399200@coastlinenb.org
SUMMARY:My Life\, My Health
DESCRIPTION:MY LIFE\, MY HEALTH is a six-week\, evidence-based program that has helped thousands of people with chronic health conditions – such as heart disease\, COPD\, diabetes\, high blood pressure\, asthma\, arthritis\, kidney disease and depression –  take control of their health and achieve a better quality of life. The program will be held Tuesdays at 1 p.m. starting March 5th. To learn more about this FREE workshop\, contact Tanisha J. Washington of Community Nurse Home Care at 508-717-0714. Workshops made possible by Title III Funding through Coastline Elderly Services and the Massachusetts Executive Office of Elder Affairs.
URL:https://coastlinenb.org/event/my-life-my-health-2/
END:VEVENT
BEGIN:VEVENT
DTSTART;TZID=UTC:20190311T093000
DTEND;TZID=UTC:20190311T113000
DTSTAMP:20260421T020321
CREATED:20190104T151349Z
LAST-MODIFIED:20190104T151349Z
UID:3941-1552296600-1552303800@coastlinenb.org
SUMMARY:Self-Improvement Classes
DESCRIPTION:Self-Improvement Classes are presented by Buzzards Bay Speech Therapy. The classes are intended for adults who are experiencing challenges in memory\, self expression\, speech clarity\, independent living or social connectedness. Funding for this program is provided by Coastline. The classes are held at North Dartmouth Super Stop and Shop\, 2nd floor\, 25 Faunce Corner Road\, N. Dartmouth. Classes are scheduled Mondays from 9:30 to 11:30 a.m. The 2019 Schedule: March 4\, 11\, 18; April 1\, 8\, 15; May 6\, 13\, 20; June 3\, 10\, 17. Questions? Call 508-326-0353 or email lycslp@gmail.com. Facebook: @buzzardsbayspeech
URL:https://coastlinenb.org/event/self-improvement-classes-8/
END:VEVENT
BEGIN:VEVENT
DTSTART;TZID=UTC:20190305T130000
DTEND;TZID=UTC:20190305T150000
DTSTAMP:20260421T020321
CREATED:20190104T180330Z
LAST-MODIFIED:20190104T180330Z
UID:3962-1551790800-1551798000@coastlinenb.org
SUMMARY:A Matter of Balance
DESCRIPTION:A MATTER OF BALANCE: Many older adults experience concerns about falling and restrict their activities. A MATTER OF BALANCE is an award-winning\, eight-week Evidence-Based Program designed to manage falls and increase activity levels. The class will run on Tuesdays starting January 15\, 2019 for eight weeks at the Buttonwood Senior Center. The program is free. To learn more about this FREE workshop\, contact Tanisha J. Washington of Community Nurse Home Care at 508-717-0714 or twashington@communitynurse.com. The workshops are made possible by Title III Funding through Coastline Elderly Services and the Massachusetts Executive Office of Elder Affairs.
URL:https://coastlinenb.org/event/a-matter-of-balance-8/
END:VEVENT
BEGIN:VEVENT
DTSTART;TZID=UTC:20190305T130000
DTEND;TZID=UTC:20190305T140000
DTSTAMP:20260421T020321
CREATED:20190104T190938Z
LAST-MODIFIED:20190104T190938Z
UID:3963-1551790800-1551794400@coastlinenb.org
SUMMARY:My Life\, My Health
DESCRIPTION:MY LIFE\, MY HEALTH is a six-week\, evidence-based program that has helped thousands of people with chronic health conditions – such as heart disease\, COPD\, diabetes\, high blood pressure\, asthma\, arthritis\, kidney disease and depression –  take control of their health and achieve a better quality of life. The program will be held Tuesdays at 1 p.m. starting March 5th. To learn more about this FREE workshop\, contact Tanisha J. Washington of Community Nurse Home Care at 508-717-0714. Workshops made possible by Title III Funding through Coastline Elderly Services and the Massachusetts Executive Office of Elder Affairs.
URL:https://coastlinenb.org/event/my-life-my-health/
END:VEVENT
BEGIN:VEVENT
DTSTART;TZID=UTC:20190304T093000
DTEND;TZID=UTC:20190304T113000
DTSTAMP:20260421T020321
CREATED:20190104T151207Z
LAST-MODIFIED:20190104T151207Z
UID:3939-1551691800-1551699000@coastlinenb.org
SUMMARY:Self-Improvement Classes
DESCRIPTION:Self-Improvement Classes are presented by Buzzards Bay Speech Therapy. The classes are intended for adults who are experiencing challenges in memory\, self expression\, speech clarity\, independent living or social connectedness. Funding for this program is provided by Coastline. The classes are held at North Dartmouth Super Stop and Shop\, 2nd floor\, 25 Faunce Corner Road\, N. Dartmouth. Classes are scheduled Mondays from 9:30 to 11:30 a.m. The 2019 Schedule: March 4\, 11\, 18; April 1\, 8\, 15; May 6\, 13\, 20; June 3\, 10\, 17. Questions? Call 508-326-0353 or email lycslp@gmail.com. Facebook: @buzzardsbayspeech
URL:https://coastlinenb.org/event/self-improvement-classes-7/
END:VEVENT
BEGIN:VEVENT
DTSTART;TZID=UTC:20190226T130000
DTEND;TZID=UTC:20190226T150000
DTSTAMP:20260421T020321
CREATED:20190104T180251Z
LAST-MODIFIED:20190104T180251Z
UID:3961-1551186000-1551193200@coastlinenb.org
SUMMARY:A Matter of Balance
DESCRIPTION:A MATTER OF BALANCE: Many older adults experience concerns about falling and restrict their activities. A MATTER OF BALANCE is an award-winning\, eight-week Evidence-Based Program designed to manage falls and increase activity levels. The class will run on Tuesdays starting January 15\, 2019 for eight weeks at the Buttonwood Senior Center. The program is free. To learn more about this FREE workshop\, contact Tanisha J. Washington of Community Nurse Home Care at 508-717-0714 or twashington@communitynurse.com. The workshops are made possible by Title III Funding through Coastline Elderly Services and the Massachusetts Executive Office of Elder Affairs.
URL:https://coastlinenb.org/event/a-matter-of-balance-7/
END:VEVENT
BEGIN:VEVENT
DTSTART;TZID=UTC:20190225T093000
DTEND;TZID=UTC:20190225T113000
DTSTAMP:20260421T020321
CREATED:20190104T151031Z
LAST-MODIFIED:20190104T151031Z
UID:3938-1551087000-1551094200@coastlinenb.org
SUMMARY:Self-Improvement Classes
DESCRIPTION:Self-Improvement Classes are presented by Buzzards Bay Speech Therapy. The classes are intended for adults who are experiencing challenges in memory\, self expression\, speech clarity\, independent living or social connectedness. Funding for this program is provided by Coastline. The classes are held at North Dartmouth Super Stop and Shop\, 2nd floor\, 25 Faunce Corner Road\, N. Dartmouth. Classes are scheduled Mondays from 9:30 to 11:30 a.m. The 2019 Schedule: Feb. 4\, 11\, 25; March 4\, 11\, 18; April 1\, 8\, 15; May 6\, 13\, 20; June 3\, 10\, 17. Questions? Call 508-326-0353 or email lycslp@gmail.com. Facebook: @buzzardsbayspeech
URL:https://coastlinenb.org/event/self-improvement-classes-6/
END:VEVENT
BEGIN:VEVENT
DTSTART;TZID=UTC:20190219T130000
DTEND;TZID=UTC:20190219T150000
DTSTAMP:20260421T020321
CREATED:20190104T180207Z
LAST-MODIFIED:20190104T180207Z
UID:3960-1550581200-1550588400@coastlinenb.org
SUMMARY:A Matter of Balance
DESCRIPTION:A MATTER OF BALANCE: Many older adults experience concerns about falling and restrict their activities. A MATTER OF BALANCE is an award-winning\, eight-week Evidence-Based Program designed to manage falls and increase activity levels. The class will run on Tuesdays starting January 15\, 2019 for eight weeks at the Buttonwood Senior Center. The program is free. To learn more about this FREE workshop\, contact Tanisha J. Washington of Community Nurse Home Care at 508-717-0714 or twashington@communitynurse.com. The workshops are made possible by Title III Funding through Coastline Elderly Services and the Massachusetts Executive Office of Elder Affairs.
URL:https://coastlinenb.org/event/a-matter-of-balance-6/
END:VEVENT
BEGIN:VEVENT
DTSTART;TZID=UTC:20190212T130000
DTEND;TZID=UTC:20190212T150000
DTSTAMP:20260421T020321
CREATED:20190104T180125Z
LAST-MODIFIED:20190104T180125Z
UID:3959-1549976400-1549983600@coastlinenb.org
SUMMARY:A Matter of Balance
DESCRIPTION:A MATTER OF BALANCE: Many older adults experience concerns about falling and restrict their activities. A MATTER OF BALANCE is an award-winning\, eight-week Evidence-Based Program designed to manage falls and increase activity levels. The class will run on Tuesdays starting January 15\, 2019 for eight weeks at the Buttonwood Senior Center. The program is free. To learn more about this FREE workshop\, contact Tanisha J. Washington of Community Nurse Home Care at 508-717-0714 or twashington@communitynurse.com. The workshops are made possible by Title III Funding through Coastline Elderly Services and the Massachusetts Executive Office of Elder Affairs.
URL:https://coastlinenb.org/event/a-matter-of-balance-5/
END:VEVENT
BEGIN:VEVENT
DTSTART;TZID=UTC:20190211T093000
DTEND;TZID=UTC:20190211T113000
DTSTAMP:20260421T020321
CREATED:20190104T150900Z
LAST-MODIFIED:20190104T150900Z
UID:3937-1549877400-1549884600@coastlinenb.org
SUMMARY:Self-Improvement Classes
DESCRIPTION:Self-Improvement Classes are presented by Buzzards Bay Speech Therapy. The classes are intended for adults who are experiencing challenges in memory\, self expression\, speech clarity\, independent living or social connectedness. Funding for this program is provided by Coastline. The classes are held at North Dartmouth Super Stop and Shop\, 2nd floor\, 25 Faunce Corner Road\, N. Dartmouth. Classes are scheduled Mondays from 9:30 to 11:30 a.m. The 2019 Schedule: Feb. 4\, 11\, 25; March 4\, 11\, 18; April 1\, 8\, 15; May 6\, 13\, 20; June 3\, 10\, 17. Questions? Call 508-326-0353 or email lycslp@gmail.com. Facebook: @buzzardsbayspeech
URL:https://coastlinenb.org/event/self-improvement-classes-5/
END:VEVENT
BEGIN:VEVENT
DTSTART;TZID=UTC:20190205T130000
DTEND;TZID=UTC:20190205T150000
DTSTAMP:20260421T020321
CREATED:20190104T180024Z
LAST-MODIFIED:20190104T180024Z
UID:3958-1549371600-1549378800@coastlinenb.org
SUMMARY:A Matter of Balance
DESCRIPTION:A MATTER OF BALANCE: Many older adults experience concerns about falling and restrict their activities. A MATTER OF BALANCE is an award-winning\, eight-week Evidence-Based Program designed to manage falls and increase activity levels. The class will run on Tuesdays starting January 15\, 2019 for eight weeks at the Buttonwood Senior Center. The program is free. To learn more about this FREE workshop\, contact Tanisha J. Washington of Community Nurse Home Care at 508-717-0714 or twashington@communitynurse.com. The workshops are made possible by Title III Funding through Coastline Elderly Services and the Massachusetts Executive Office of Elder Affairs.
URL:https://coastlinenb.org/event/a-matter-of-balance-4/
END:VEVENT
BEGIN:VEVENT
DTSTART;TZID=UTC:20190204T093000
DTEND;TZID=UTC:20190204T113000
DTSTAMP:20260421T020321
CREATED:20190104T150708Z
LAST-MODIFIED:20190104T150708Z
UID:3936-1549272600-1549279800@coastlinenb.org
SUMMARY:Self-Improvement Classes
DESCRIPTION:Self-Improvement Classes are presented by Buzzards Bay Speech Therapy. The classes are intended for adults who are experiencing challenges in memory\, self expression\, speech clarity\, independent living or social connectedness. Funding for this program is provided by Coastline. The classes are held at North Dartmouth Super Stop and Shop\, 2nd floor\, 25 Faunce Corner Road\, N. Dartmouth. Classes are scheduled Mondays from 9:30 to 11:30 a.m. The 2019 Schedule: Feb. 4\, 11\, 25; March 4\, 11\, 18; April 1\, 8\, 15; May 6\, 13\, 20; June 3\, 10\, 17. Questions? Call 508-326-0353 or email lycslp@gmail.com. Facebook: @buzzardsbayspeech
URL:https://coastlinenb.org/event/self-improvement-classes-4/
END:VEVENT
END:VCALENDAR