BEGIN:VCALENDAR
VERSION:2.0
PRODID:-//Coastline - ECPv6.15.20//NONSGML v1.0//EN
CALSCALE:GREGORIAN
METHOD:PUBLISH
X-WR-CALNAME:Coastline
X-ORIGINAL-URL:https://coastlinenb.org
X-WR-CALDESC:Events for Coastline
REFRESH-INTERVAL;VALUE=DURATION:PT1H
X-Robots-Tag:noindex
X-PUBLISHED-TTL:PT1H
BEGIN:VTIMEZONE
TZID:UTC
BEGIN:STANDARD
TZOFFSETFROM:+0000
TZOFFSETTO:+0000
TZNAME:UTC
DTSTART:20180101T000000
END:STANDARD
END:VTIMEZONE
BEGIN:VEVENT
DTSTART;TZID=UTC:20190204T093000
DTEND;TZID=UTC:20190204T113000
DTSTAMP:20260421T135259
CREATED:20190104T150708Z
LAST-MODIFIED:20190104T150708Z
UID:3936-1549272600-1549279800@coastlinenb.org
SUMMARY:Self-Improvement Classes
DESCRIPTION:Self-Improvement Classes are presented by Buzzards Bay Speech Therapy. The classes are intended for adults who are experiencing challenges in memory\, self expression\, speech clarity\, independent living or social connectedness. Funding for this program is provided by Coastline. The classes are held at North Dartmouth Super Stop and Shop\, 2nd floor\, 25 Faunce Corner Road\, N. Dartmouth. Classes are scheduled Mondays from 9:30 to 11:30 a.m. The 2019 Schedule: Feb. 4\, 11\, 25; March 4\, 11\, 18; April 1\, 8\, 15; May 6\, 13\, 20; June 3\, 10\, 17. Questions? Call 508-326-0353 or email lycslp@gmail.com. Facebook: @buzzardsbayspeech
URL:https://coastlinenb.org/event/self-improvement-classes-4/
END:VEVENT
BEGIN:VEVENT
DTSTART;TZID=UTC:20190129T130000
DTEND;TZID=UTC:20190129T150000
DTSTAMP:20260421T135259
CREATED:20190104T175944Z
LAST-MODIFIED:20190104T175944Z
UID:3957-1548766800-1548774000@coastlinenb.org
SUMMARY:A Matter of Balance
DESCRIPTION:A MATTER OF BALANCE: Many older adults experience concerns about falling and restrict their activities. A MATTER OF BALANCE is an award-winning\, eight-week Evidence-Based Program designed to manage falls and increase activity levels. The class will run on Tuesdays starting January 15\, 2019 for eight weeks at the Buttonwood Senior Center. The program is free. To learn more about this FREE workshop\, contact Tanisha J. Washington of Community Nurse Home Care at 508-717-0714 or twashington@communitynurse.com. The workshops are made possible by Title III Funding through Coastline Elderly Services and the Massachusetts Executive Office of Elder Affairs.
URL:https://coastlinenb.org/event/a-matter-of-balance-3/
END:VEVENT
BEGIN:VEVENT
DTSTART;TZID=UTC:20190128T093000
DTEND;TZID=UTC:20190128T113000
DTSTAMP:20260421T135259
CREATED:20190104T150422Z
LAST-MODIFIED:20190104T150422Z
UID:3934-1548667800-1548675000@coastlinenb.org
SUMMARY:Self-Improvement Classes
DESCRIPTION:Self-Improvement Classes are presented by Buzzards Bay Speech Therapy. The classes are intended for adults who are experiencing challenges in memory\, self expression\, speech clarity\, independent living or social connectedness. Funding for this program is provided by Coastline. The classes are held at North Dartmouth Super Stop and Shop\, 2nd floor\, 25 Faunce Corner Road\, N. Dartmouth. Classes are scheduled Mondays from 9:30 to 11:30 a.m. The 2019 Schedule: January 7\, 14\, 28; Feb. 4\, 11\, 25; March 4\, 11\, 18; April 1\, 8\, 15; May 6\, 13\, 20; June 3\, 10\, 17. Questions? Call 508-326-0353 or email lycslp@gmail.com. Facebook: @buzzardsbayspeech
URL:https://coastlinenb.org/event/self-improvement-classes-3/
END:VEVENT
BEGIN:VEVENT
DTSTART;TZID=UTC:20190122T130000
DTEND;TZID=UTC:20190122T150000
DTSTAMP:20260421T135259
CREATED:20190104T175705Z
LAST-MODIFIED:20190104T175705Z
UID:3956-1548162000-1548169200@coastlinenb.org
SUMMARY:A Matter of Balance
DESCRIPTION:A MATTER OF BALANCE: Many older adults experience concerns about falling and restrict their activities. A MATTER OF BALANCE is an award-winning\, eight-week Evidence-Based Program designed to manage falls and increase activity levels. The class will run on Tuesdays starting January 15\, 2019 for eight weeks at the Buttonwood Senior Center. The program is free. To learn more about this FREE workshop\, contact Tanisha J. Washington of Community Nurse Home Care at 508-717-0714 or twashington@communitynurse.com. The workshops are made possible by Title III Funding through Coastline Elderly Services and the Massachusetts Executive Office of Elder Affairs.
URL:https://coastlinenb.org/event/a-matter-of-balance-2/
END:VEVENT
BEGIN:VEVENT
DTSTART;TZID=UTC:20190115T130000
DTEND;TZID=UTC:20190115T150000
DTSTAMP:20260421T135259
CREATED:20190104T175533Z
LAST-MODIFIED:20190104T175533Z
UID:3954-1547557200-1547564400@coastlinenb.org
SUMMARY:A Matter of Balance
DESCRIPTION:A MATTER OF BALANCE: Many older adults experience concerns about falling and restrict their activities. A MATTER OF BALANCE is an award-winning\, eight-week Evidence-Based Program designed to manage falls and increase activity levels. The class will run on Tuesdays starting January 15\, 2019 for eight weeks at the Buttonwood Senior Center. The program is free. To learn more about this FREE workshop\, contact Tanisha J. Washington of Community Nurse Home Care at 508-717-0714 or twashington@communitynurse.com. The workshops are made possible by Title III Funding through Coastline Elderly Services and the Massachusetts Executive Office of Elder Affairs.
URL:https://coastlinenb.org/event/a-matter-of-balance/
END:VEVENT
BEGIN:VEVENT
DTSTART;TZID=UTC:20190114T093000
DTEND;TZID=UTC:20190114T113000
DTSTAMP:20260421T135300
CREATED:20190104T145432Z
LAST-MODIFIED:20190104T145432Z
UID:3931-1547458200-1547465400@coastlinenb.org
SUMMARY:Self-Improvement Classes
DESCRIPTION:Self-Improvement Classes are presented by Buzzards Bay Speech Therapy. The classes are intended for adults who are experiencing challenges in memory\, self expression\, speech clarity\, independent living or social connectedness. Funding for this program is provided by Coastline. The classes are held at North Dartmouth Super Stop and Shop\, 2nd floor\, 25 Faunce Corner Road\, N. Dartmouth. Classes are scheduled Mondays from 9:30 to 11:30 a.m. The 2019 Schedule: January 7\, 14\, 28; Feb. 4\, 11\, 25; March 4\, 11\, 18; April 1\, 8\, 15; May 6\, 13\, 20; June 3\, 10\, 17. Questions? Call 508-326-0353 or email lycslp@gmail.com. Facebook: @buzzardsbayspeech
URL:https://coastlinenb.org/event/self-improvement-classes-2/
END:VEVENT
BEGIN:VEVENT
DTSTART;TZID=UTC:20190107T093000
DTEND;TZID=UTC:20190107T113000
DTSTAMP:20260421T135300
CREATED:20190104T142759Z
LAST-MODIFIED:20190104T142759Z
UID:3925-1546853400-1546860600@coastlinenb.org
SUMMARY:Self-Improvement Classes
DESCRIPTION:Self-Improvement Classes are presented by Buzzards Bay Speech Therapy. The classes are intended for adults who are experiencing challenges in memory\, self expression\, speech clarity\, independent living or social connectedness. Funding for this program is provided by Coastline. The classes are held at North Dartmouth Super Stop and Shop\, 2nd floor\, 25 Faunce Corner Road\, N. Dartmouth. Classes are scheduled Mondays from 9:30 to 11:30 a.m. The 2019 Schedule: January 7\, 14\, 28; Feb. 4\, 11\, 25; March 4\, 11\, 18; April 1\, 8\, 15; May 6\, 13\, 20; June 3\, 10\, 17. Questions? Call 508-326-0353 or email lycslp@gmail.com. Facebook: @buzzardsbayspeech
URL:https://coastlinenb.org/event/self-improvement-classes/
END:VEVENT
END:VCALENDAR