BEGIN:VCALENDAR
VERSION:2.0
PRODID:-//Coastline - ECPv6.15.20//NONSGML v1.0//EN
CALSCALE:GREGORIAN
METHOD:PUBLISH
X-WR-CALNAME:Coastline
X-ORIGINAL-URL:https://coastlinenb.org
X-WR-CALDESC:Events for Coastline
REFRESH-INTERVAL;VALUE=DURATION:PT1H
X-Robots-Tag:noindex
X-PUBLISHED-TTL:PT1H
BEGIN:VTIMEZONE
TZID:UTC
BEGIN:STANDARD
TZOFFSETFROM:+0000
TZOFFSETTO:+0000
TZNAME:UTC
DTSTART:20180101T000000
END:STANDARD
END:VTIMEZONE
BEGIN:VEVENT
DTSTART;TZID=UTC:20190724T133000
DTEND;TZID=UTC:20190724T153000
DTSTAMP:20260421T032816
CREATED:20190710T200031Z
LAST-MODIFIED:20190710T200031Z
UID:4280-1563975000-1563982200@coastlinenb.org
SUMMARY:Personal Care Attendant (PCA) Program Enhancements
DESCRIPTION:Public Listening Session: Personal Care Attendant (PCA) Program Enhancements\nThere is a public listening session scheduled this July regarding enhancements to the Personal Care Attendant (PCA) Program. \nThe listening session will take place on Wednesday\, July 24\, from 1:30 to 3:30 p.m. at the New Bedford Free Public Library. The library is located at 613 Pleasant Street\, New Bedford\, MA 02740. \nThe session will take place on the third floor. People will be seated on a first-come\, first-served basis. The presentation room has a capacity of 150. \nVisit the library’s website for directions.
URL:https://coastlinenb.org/event/personal-care-attendant-pca-program-enhancements/
END:VEVENT
BEGIN:VEVENT
DTSTART;TZID=UTC:20190722T130000
DTEND;TZID=UTC:20190722T140000
DTSTAMP:20260421T032816
CREATED:20190104T193718Z
LAST-MODIFIED:20190104T193718Z
UID:3983-1563800400-1563804000@coastlinenb.org
SUMMARY:My Life\, My Health
DESCRIPTION:MY LIFE\, MY HEALTH is a six-week\, evidence-based program that has helped thousands of people with chronic health conditions – such as heart disease\, COPD\, diabetes\, high blood pressure\, asthma\, arthritis\, kidney disease and depression –  take control of their health and achieve a better quality of life. The program will be held Tuesdays at 1 p.m. starting March 5th. To learn more about this FREE workshop\, contact Tanisha J. Washington of Community Nurse Home Care at 508-717-0714. Workshops made possible by Title III Funding through Coastline Elderly Services and the Massachusetts Executive Office of Elder Affairs.
URL:https://coastlinenb.org/event/my-life-my-health-11/
END:VEVENT
BEGIN:VEVENT
DTSTART;TZID=UTC:20190715T130000
DTEND;TZID=UTC:20190715T150000
DTSTAMP:20260421T032816
CREATED:20190104T193642Z
LAST-MODIFIED:20190104T193642Z
UID:3982-1563195600-1563202800@coastlinenb.org
SUMMARY:My Life\, My Health
DESCRIPTION:MY LIFE\, MY HEALTH is a six-week\, evidence-based program that has helped thousands of people with chronic health conditions – such as heart disease\, COPD\, diabetes\, high blood pressure\, asthma\, arthritis\, kidney disease and depression –  take control of their health and achieve a better quality of life. The program will be held Tuesdays at 1 p.m. starting March 5th. To learn more about this FREE workshop\, contact Tanisha J. Washington of Community Nurse Home Care at 508-717-0714. Workshops made possible by Title III Funding through Coastline Elderly Services and the Massachusetts Executive Office of Elder Affairs.
URL:https://coastlinenb.org/event/my-life-my-health-10/
END:VEVENT
BEGIN:VEVENT
DTSTART;TZID=UTC:20190708T130000
DTEND;TZID=UTC:20190708T140000
DTSTAMP:20260421T032816
CREATED:20190104T193536Z
LAST-MODIFIED:20190104T193536Z
UID:3981-1562590800-1562594400@coastlinenb.org
SUMMARY:My Life\, My Health
DESCRIPTION:MY LIFE\, MY HEALTH is a six-week\, evidence-based program that has helped thousands of people with chronic health conditions – such as heart disease\, COPD\, diabetes\, high blood pressure\, asthma\, arthritis\, kidney disease and depression –  take control of their health and achieve a better quality of life. The program will be held Tuesdays at 1 p.m. starting March 5th. To learn more about this FREE workshop\, contact Tanisha J. Washington of Community Nurse Home Care at 508-717-0714. Workshops made possible by Title III Funding through Coastline Elderly Services and the Massachusetts Executive Office of Elder Affairs.
URL:https://coastlinenb.org/event/my-life-my-health-9/
END:VEVENT
BEGIN:VEVENT
DTSTART;TZID=UTC:20190701T130000
DTEND;TZID=UTC:20190701T140000
DTSTAMP:20260421T032816
CREATED:20190104T193436Z
LAST-MODIFIED:20190104T193436Z
UID:3980-1561986000-1561989600@coastlinenb.org
SUMMARY:My Life\, My Health
DESCRIPTION:MY LIFE\, MY HEALTH is a six-week\, evidence-based program that has helped thousands of people with chronic health conditions – such as heart disease\, COPD\, diabetes\, high blood pressure\, asthma\, arthritis\, kidney disease and depression –  take control of their health and achieve a better quality of life. The program will be held Tuesdays at 1 p.m. starting March 5th. To learn more about this FREE workshop\, contact Tanisha J. Washington of Community Nurse Home Care at 508-717-0714. Workshops made possible by Title III Funding through Coastline Elderly Services and the Massachusetts Executive Office of Elder Affairs.
URL:https://coastlinenb.org/event/my-life-my-health-8/
END:VEVENT
BEGIN:VEVENT
DTSTART;TZID=UTC:20190624T130000
DTEND;TZID=UTC:20190624T150000
DTSTAMP:20260421T032816
CREATED:20190104T193325Z
LAST-MODIFIED:20190104T193325Z
UID:3979-1561381200-1561388400@coastlinenb.org
SUMMARY:My Life\, My Health
DESCRIPTION:MY LIFE\, MY HEALTH is a six-week\, evidence-based program that has helped thousands of people with chronic health conditions – such as heart disease\, COPD\, diabetes\, high blood pressure\, asthma\, arthritis\, kidney disease and depression –  take control of their health and achieve a better quality of life. The program will be held Tuesdays at 1 p.m. starting March 5th. To learn more about this FREE workshop\, contact Tanisha J. Washington of Community Nurse Home Care at 508-717-0714. Workshops made possible by Title III Funding through Coastline Elderly Services and the Massachusetts Executive Office of Elder Affairs.
URL:https://coastlinenb.org/event/my-life-my-health-7/
END:VEVENT
BEGIN:VEVENT
DTSTART;TZID=UTC:20190618T100000
DTEND;TZID=UTC:20190618T113000
DTSTAMP:20260421T032816
CREATED:20190223T155523Z
LAST-MODIFIED:20190223T155523Z
UID:4097-1560852000-1560857400@coastlinenb.org
SUMMARY:Learn How to Ride the Bus
DESCRIPTION:Tuesday\, June 18\, 2019\n10 to 11:30 am\nButtonwood Senior Center\n1 Oneida St\, New Bedford\, MA \nOn June 18\, learn how to ride the bus at a transportation training session at the Buttonwood Senior Center. \nLEARN HOW TO RIDE THE BUS\n• Get on and explore a bus at the event! \nSIGN UP FOR A SENIOR CHARLIE CARD\n• Bring $5 and sign up for a Senior Charlie Card to use on the bus (use the $5 for future trips!) \nLEARN ABOUT TRANSPORTATION OPTIONS\n• Get information about available transportation services \nThis event includes a FREE barbecue lunch\, which will be served at 11:30 am. RSVP for lunch to Wendy at 508-991-6170. \nThis Age-Friendly New Bedford event is sponsored by: Coastline\, the City of New Bedford\, SRPEDD\, and SRTA
URL:https://coastlinenb.org/event/learn-how-to-ride-the-bus/
END:VEVENT
BEGIN:VEVENT
DTSTART;TZID=UTC:20190617T093000
DTEND;TZID=UTC:20190617T113000
DTSTAMP:20260421T032816
CREATED:20190104T153016Z
LAST-MODIFIED:20190104T153016Z
UID:3952-1560763800-1560771000@coastlinenb.org
SUMMARY:Self-Improvement Classes
DESCRIPTION:Self-Improvement Classes are presented by Buzzards Bay Speech Therapy. The classes are intended for adults who are experiencing challenges in memory\, self expression\, speech clarity\, independent living or social connectedness. Funding for this program is provided by Coastline. The classes are held at North Dartmouth Super Stop and Shop\, 2nd floor\, 25 Faunce Corner Road\, N. Dartmouth. Classes are scheduled Mondays from 9:30 to 11:30 a.m. The 2019 Schedule: June 3\, 10\, 17. Questions? Call 508-326-0353 or email lycslp@gmail.com. Facebook: @buzzardsbayspeech
URL:https://coastlinenb.org/event/self-improvement-classes-18/
END:VEVENT
BEGIN:VEVENT
DTSTART;TZID=UTC:20190614T090000
DTEND;TZID=UTC:20190614T120000
DTSTAMP:20260421T032816
CREATED:20190223T160113Z
LAST-MODIFIED:20190223T160113Z
UID:4098-1560502800-1560513600@coastlinenb.org
SUMMARY:Bristol County Celebration of Seniors
DESCRIPTION:The Bristol County District Attorney’s Office and Coastline will be hosting the annual Bristol County Celebration of seniors in June. This event will take place at White’s of Westport. Join us for breakfast\, a resource fair\, and presentations on issues important to seniors. \nIf you are planning to attend\, RSVP at 508-961-1973 or Eric.M.Poulin@state.ma.us \nVendor tables will be available. Please contact Ann McCrillis at amccrillis@coastlinenb.org
URL:https://coastlinenb.org/event/bristol-county-celebration-of-seniors/
END:VEVENT
BEGIN:VEVENT
DTSTART;TZID=UTC:20190610T093000
DTEND;TZID=UTC:20190610T113000
DTSTAMP:20260421T032816
CREATED:20190104T152930Z
LAST-MODIFIED:20190104T152930Z
UID:3951-1560159000-1560166200@coastlinenb.org
SUMMARY:Self-Improvement Classes
DESCRIPTION:Self-Improvement Classes are presented by Buzzards Bay Speech Therapy. The classes are intended for adults who are experiencing challenges in memory\, self expression\, speech clarity\, independent living or social connectedness. Funding for this program is provided by Coastline. The classes are held at North Dartmouth Super Stop and Shop\, 2nd floor\, 25 Faunce Corner Road\, N. Dartmouth. Classes are scheduled Mondays from 9:30 to 11:30 a.m. The 2019 Schedule: June 3\, 10\, 17. Questions? Call 508-326-0353 or email lycslp@gmail.com. Facebook: @buzzardsbayspeech
URL:https://coastlinenb.org/event/self-improvement-classes-17/
END:VEVENT
BEGIN:VEVENT
DTSTART;TZID=UTC:20190603T093000
DTEND;TZID=UTC:20190603T113000
DTSTAMP:20260421T032816
CREATED:20190104T152841Z
LAST-MODIFIED:20190104T152841Z
UID:3950-1559554200-1559561400@coastlinenb.org
SUMMARY:Self-Improvement Classes
DESCRIPTION:Self-Improvement Classes are presented by Buzzards Bay Speech Therapy. The classes are intended for adults who are experiencing challenges in memory\, self expression\, speech clarity\, independent living or social connectedness. Funding for this program is provided by Coastline. The classes are held at North Dartmouth Super Stop and Shop\, 2nd floor\, 25 Faunce Corner Road\, N. Dartmouth. Classes are scheduled Mondays from 9:30 to 11:30 a.m. The 2019 Schedule: June 3\, 10\, 17. Questions? Call 508-326-0353 or email lycslp@gmail.com. Facebook: @buzzardsbayspeech
URL:https://coastlinenb.org/event/self-improvement-classes-16/
END:VEVENT
BEGIN:VEVENT
DTSTART;TZID=UTC:20190529T130000
DTEND;TZID=UTC:20190529T150000
DTSTAMP:20260421T032816
CREATED:20190104T192901Z
LAST-MODIFIED:20190104T192901Z
UID:3977-1559134800-1559142000@coastlinenb.org
SUMMARY:A Matter of Balance
DESCRIPTION:A MATTER OF BALANCE: Many older adults experience concerns about falling and restrict their activities. A MATTER OF BALANCE is an award-winning\, eight-week Evidence-Based Program designed to manage falls and increase activity levels. The class will run on Tuesdays starting January 15\, 2019 for eight weeks at the Buttonwood Senior Center. The program is free. To learn more about this FREE workshop\, contact Tanisha J. Washington of Community Nurse Home Care at 508-717-0714 or twashington@communitynurse.com. The workshops are made possible by Title III Funding through Coastline Elderly Services and the Massachusetts Executive Office of Elder Affairs.
URL:https://coastlinenb.org/event/a-matter-of-balance-15/
END:VEVENT
BEGIN:VEVENT
DTSTART;TZID=UTC:20190528T173000
DTEND;TZID=UTC:20190528T200000
DTSTAMP:20260421T032816
CREATED:20190402T160450Z
LAST-MODIFIED:20190402T160450Z
UID:4146-1559064600-1559073600@coastlinenb.org
SUMMARY:Grandparents Raising Grandchildren Workshop
DESCRIPTION:The Commission on the Status of Grandparents Raising Grandchildren is hosting a workshop on May 28 from 5:30-8 p.m. This workshop will cover the impact of trauma on children. The workshop will be held at The Family Resource and Development Center\, 128 Union Street in New Bedford. The guest speaker will be Jennifer Salem-Russo of St. Anne’s Hospital. Light refreshments will be provided. Registration is required. To register contact the Commission: Colleen.pritoni@state.ma.us
URL:https://coastlinenb.org/event/grandparents-raising-grandchildren-workshop/
END:VEVENT
BEGIN:VEVENT
DTSTART;TZID=UTC:20190522T130000
DTEND;TZID=UTC:20190522T150000
DTSTAMP:20260421T032816
CREATED:20190104T192747Z
LAST-MODIFIED:20190104T192747Z
UID:3976-1558530000-1558537200@coastlinenb.org
SUMMARY:A Matter of Balance
DESCRIPTION:A MATTER OF BALANCE: Many older adults experience concerns about falling and restrict their activities. A MATTER OF BALANCE is an award-winning\, eight-week Evidence-Based Program designed to manage falls and increase activity levels. The class will run on Tuesdays starting January 15\, 2019 for eight weeks at the Buttonwood Senior Center. The program is free. To learn more about this FREE workshop\, contact Tanisha J. Washington of Community Nurse Home Care at 508-717-0714 or twashington@communitynurse.com. The workshops are made possible by Title III Funding through Coastline Elderly Services and the Massachusetts Executive Office of Elder Affairs.
URL:https://coastlinenb.org/event/a-matter-of-balance-14/
END:VEVENT
BEGIN:VEVENT
DTSTART;TZID=UTC:20190520T093000
DTEND;TZID=UTC:20190520T113000
DTSTAMP:20260421T032816
CREATED:20190104T152721Z
LAST-MODIFIED:20190104T152721Z
UID:3949-1558344600-1558351800@coastlinenb.org
SUMMARY:Self-Improvement Classes
DESCRIPTION:Self-Improvement Classes are presented by Buzzards Bay Speech Therapy. The classes are intended for adults who are experiencing challenges in memory\, self expression\, speech clarity\, independent living or social connectedness. Funding for this program is provided by Coastline. The classes are held at North Dartmouth Super Stop and Shop\, 2nd floor\, 25 Faunce Corner Road\, N. Dartmouth. Classes are scheduled Mondays from 9:30 to 11:30 a.m. The 2019 Schedule: May 6\, 13\, 20; June 3\, 10\, 17. Questions? Call 508-326-0353 or email lycslp@gmail.com. Facebook: @buzzardsbayspeech
URL:https://coastlinenb.org/event/self-improvement-classes-15/
END:VEVENT
BEGIN:VEVENT
DTSTART;TZID=UTC:20190517T110000
DTEND;TZID=UTC:20190517T120000
DTSTAMP:20260421T032816
CREATED:20190423T204350Z
LAST-MODIFIED:20190423T204350Z
UID:4190-1558090800-1558094400@coastlinenb.org
SUMMARY:Malnutrition Awareness Event
DESCRIPTION:Coastline’s Nutrition Department will be hosting malnutrition awareness events this week. The events will include a malnutrition screening\, presentation\, yogurt parfait bar\, and take-away snacks. \nHere is the complete schedule below: \n\nDartmouth Council on Aging\, May 13 from 11 a.m.-12 p.m.\nMarion Council on Aging\, May 14 from 12:30-1:30 p.m.\nAcushnet Council on Aging\, May 15 from 12-1 p.m.\nButtonwood Senior Center\, May 17 from 11 a.m.-12 p.m.\n\nCoastline’s dietitians can perform at-home assessments to screen for malnutrition. Call Coastline for more info at 508-999-6400.
URL:https://coastlinenb.org/event/malnutrition-awareness-event-4/
END:VEVENT
BEGIN:VEVENT
DTSTART;TZID=UTC:20190515T133000
DTEND;TZID=UTC:20190515T153000
DTSTAMP:20260421T032816
CREATED:20190211T144358Z
LAST-MODIFIED:20190211T144358Z
UID:4079-1557927000-1557934200@coastlinenb.org
SUMMARY:Savvy Caregiver Program
DESCRIPTION:The Savvy Caregiver is a 12-hour training program delivered in two-hour sessions over a six-week period. \n\n\nThe program is focused on providing instructional material for Alzheimer’s and dementia caregivers. The program teaches the basic knowledge\, skills and attitudes needed to handle the challenges of caring for someone with Alzheimer’s disease. Results have shown the training program reduces Alzheimer caregiver’s distress effectively. \nThe Savvy Caregiver Program will run from April 10 to May 15 from 1:30 to 3:30 p.m. at Dartmouth Council on Aging. To register please call Coastline at 508-999-6400.
URL:https://coastlinenb.org/event/savvy-caregiver-program-6/
END:VEVENT
BEGIN:VEVENT
DTSTART;TZID=UTC:20190515T130000
DTEND;TZID=UTC:20190515T150000
DTSTAMP:20260421T032816
CREATED:20190104T193004Z
LAST-MODIFIED:20190104T193004Z
UID:3978-1557925200-1557932400@coastlinenb.org
SUMMARY:A Matter of Balance
DESCRIPTION:A MATTER OF BALANCE: Many older adults experience concerns about falling and restrict their activities. A MATTER OF BALANCE is an award-winning\, eight-week Evidence-Based Program designed to manage falls and increase activity levels. The class will run on Tuesdays starting January 15\, 2019 for eight weeks at the Buttonwood Senior Center. The program is free. To learn more about this FREE workshop\, contact Tanisha J. Washington of Community Nurse Home Care at 508-717-0714 or twashington@communitynurse.com. The workshops are made possible by Title III Funding through Coastline Elderly Services and the Massachusetts Executive Office of Elder Affairs.
URL:https://coastlinenb.org/event/a-matter-of-balance-16/
END:VEVENT
BEGIN:VEVENT
DTSTART;TZID=UTC:20190515T120000
DTEND;TZID=UTC:20190515T130000
DTSTAMP:20260421T032816
CREATED:20190423T204221Z
LAST-MODIFIED:20190423T204221Z
UID:4187-1557921600-1557925200@coastlinenb.org
SUMMARY:Malnutrition Awareness Event
DESCRIPTION:Coastline’s Nutrition Department will be hosting malnutrition awareness events this week. The events will include a malnutrition screening\, presentation\, yogurt parfait bar\, and take-away snacks. \nHere is the complete schedule below: \n\nDartmouth Council on Aging\, May 13 from 11 a.m.-12 p.m.\nMarion Council on Aging\, May 14 from 12:30-1:30 p.m.\nAcushnet Council on Aging\, May 15 from 12-1 p.m.\nButtonwood Senior Center\, May 17 from 11 a.m.-12 p.m.\n\nCoastline’s dietitians can perform at-home assessments to screen for malnutrition. Call Coastline for more info at 508-999-6400.
URL:https://coastlinenb.org/event/malnutrition-awareness-event-3/
END:VEVENT
BEGIN:VEVENT
DTSTART;TZID=UTC:20190514T123000
DTEND;TZID=UTC:20190514T133000
DTSTAMP:20260421T032817
CREATED:20190423T203821Z
LAST-MODIFIED:20190423T203821Z
UID:4185-1557837000-1557840600@coastlinenb.org
SUMMARY:Malnutrition Awareness Event
DESCRIPTION:Coastline’s Nutrition Department will be hosting malnutrition awareness events this week. The events will include a malnutrition screening\, presentation\, yogurt parfait bar\, and take-away snacks. \nHere is the complete schedule below: \n\nDartmouth Council on Aging\, May 13 from 11 a.m.-12 p.m.\nMarion Council on Aging\, May 14 from 12:30-1:30 p.m.\nAcushnet Council on Aging\, May 15 from 12-1 p.m.\nButtonwood Senior Center\, May 17 from 11 a.m.-12 p.m.\n\nCoastline’s dietitians can perform at-home assessments to screen for malnutrition. Call Coastline for more info at 508-999-6400.
URL:https://coastlinenb.org/event/malnutrition-awareness-event-2/
END:VEVENT
BEGIN:VEVENT
DTSTART;TZID=UTC:20190513T110000
DTEND;TZID=UTC:20190513T120000
DTSTAMP:20260421T032817
CREATED:20190423T203510Z
LAST-MODIFIED:20190423T203510Z
UID:4184-1557745200-1557748800@coastlinenb.org
SUMMARY:Malnutrition Awareness Event
DESCRIPTION:Coastline’s Nutrition Department will be hosting malnutrition awareness events this week. The events will include a malnutrition screening\, presentation\, yogurt parfait bar\, and take-away snacks. \nHere is the complete schedule below: \n\nDartmouth Council on Aging\, May 13 from 11 a.m.-12 p.m.\nMarion Council on Aging\, May 14 from 12:30-1:30 p.m.\nAcushnet Council on Aging\, May 15 from 12-1 p.m.\nButtonwood Senior Center\, May 17 from 11 a.m.-12 p.m.\n\nCoastline’s dietitians can perform at-home assessments to screen for malnutrition. Call Coastline for more info at 508-999-6400.
URL:https://coastlinenb.org/event/malnutrition-awareness-event/
END:VEVENT
BEGIN:VEVENT
DTSTART;TZID=UTC:20190513T093000
DTEND;TZID=UTC:20190513T113000
DTSTAMP:20260421T032817
CREATED:20190104T152613Z
LAST-MODIFIED:20190104T152613Z
UID:3948-1557739800-1557747000@coastlinenb.org
SUMMARY:Self-Improvement Classes
DESCRIPTION:Self-Improvement Classes are presented by Buzzards Bay Speech Therapy. The classes are intended for adults who are experiencing challenges in memory\, self expression\, speech clarity\, independent living or social connectedness. Funding for this program is provided by Coastline. The classes are held at North Dartmouth Super Stop and Shop\, 2nd floor\, 25 Faunce Corner Road\, N. Dartmouth. Classes are scheduled Mondays from 9:30 to 11:30 a.m. The 2019 Schedule: May 6\, 13\, 20; June 3\, 10\, 17. Questions? Call 508-326-0353 or email lycslp@gmail.com. Facebook: @buzzardsbayspeech
URL:https://coastlinenb.org/event/self-improvement-classes-14/
END:VEVENT
BEGIN:VEVENT
DTSTART;TZID=UTC:20190510T100000
DTEND;TZID=UTC:20190510T140000
DTSTAMP:20260421T032817
CREATED:20190223T155319Z
LAST-MODIFIED:20190223T155319Z
UID:4095-1557482400-1557496800@coastlinenb.org
SUMMARY:Health Fair at the Fairhaven COA
DESCRIPTION:Coastline will be hosting a Health Fair at the Fairhaven Recreation Center on May 10th from 10 a.m to 2 p.m.
URL:https://coastlinenb.org/event/health-fair-at-the-fairhaven-coa/
END:VEVENT
BEGIN:VEVENT
DTSTART;TZID=UTC:20190508T133000
DTEND;TZID=UTC:20190508T153000
DTSTAMP:20260421T032817
CREATED:20190211T144319Z
LAST-MODIFIED:20190211T144319Z
UID:4078-1557322200-1557329400@coastlinenb.org
SUMMARY:Savvy Caregiver Program
DESCRIPTION:The Savvy Caregiver is a 12-hour training program delivered in two-hour sessions over a six-week period. \n\n\nThe program is focused on providing instructional material for Alzheimer’s and dementia caregivers. The program teaches the basic knowledge\, skills and attitudes needed to handle the challenges of caring for someone with Alzheimer’s disease. Results have shown the training program reduces Alzheimer caregiver’s distress effectively. \nThe Savvy Caregiver Program will run from April 10 to May 15 from 1:30 to 3:30 p.m. at Dartmouth Council on Aging. To register please call Coastline at 508-999-6400.
URL:https://coastlinenb.org/event/savvy-caregiver-program-5/
END:VEVENT
BEGIN:VEVENT
DTSTART;TZID=UTC:20190508T130000
DTEND;TZID=UTC:20190508T150000
DTSTAMP:20260421T032817
CREATED:20190104T192616Z
LAST-MODIFIED:20190104T192616Z
UID:3975-1557320400-1557327600@coastlinenb.org
SUMMARY:A Matter of Balance
DESCRIPTION:A MATTER OF BALANCE: Many older adults experience concerns about falling and restrict their activities. A MATTER OF BALANCE is an award-winning\, eight-week Evidence-Based Program designed to manage falls and increase activity levels. The class will run on Tuesdays starting January 15\, 2019 for eight weeks at the Buttonwood Senior Center. The program is free. To learn more about this FREE workshop\, contact Tanisha J. Washington of Community Nurse Home Care at 508-717-0714 or twashington@communitynurse.com. The workshops are made possible by Title III Funding through Coastline Elderly Services and the Massachusetts Executive Office of Elder Affairs.
URL:https://coastlinenb.org/event/a-matter-of-balance-13/
END:VEVENT
BEGIN:VEVENT
DTSTART;TZID=UTC:20190506T093000
DTEND;TZID=UTC:20190506T113000
DTSTAMP:20260421T032817
CREATED:20190104T152420Z
LAST-MODIFIED:20190104T152420Z
UID:3946-1557135000-1557142200@coastlinenb.org
SUMMARY:Self-Improvement Classes
DESCRIPTION:Self-Improvement Classes are presented by Buzzards Bay Speech Therapy. The classes are intended for adults who are experiencing challenges in memory\, self expression\, speech clarity\, independent living or social connectedness. Funding for this program is provided by Coastline. The classes are held at North Dartmouth Super Stop and Shop\, 2nd floor\, 25 Faunce Corner Road\, N. Dartmouth. Classes are scheduled Mondays from 9:30 to 11:30 a.m. The 2019 Schedule: May 6\, 13\, 20; June 3\, 10\, 17. Questions? Call 508-326-0353 or email lycslp@gmail.com. Facebook: @buzzardsbayspeech
URL:https://coastlinenb.org/event/self-improvement-classes-13/
END:VEVENT
BEGIN:VEVENT
DTSTART;TZID=UTC:20190501T133000
DTEND;TZID=UTC:20190501T153000
DTSTAMP:20260421T032817
CREATED:20190211T144221Z
LAST-MODIFIED:20190211T144221Z
UID:4077-1556717400-1556724600@coastlinenb.org
SUMMARY:Savvy Caregiver Program
DESCRIPTION:The Savvy Caregiver is a 12-hour training program delivered in two-hour sessions over a six-week period. \n\n\nThe program is focused on providing instructional material for Alzheimer’s and dementia caregivers. The program teaches the basic knowledge\, skills and attitudes needed to handle the challenges of caring for someone with Alzheimer’s disease. Results have shown the training program reduces Alzheimer caregiver’s distress effectively. \nThe Savvy Caregiver Program will run from April 10 to May 15 from 1:30 to 3:30 p.m. at Dartmouth Council on Aging. To register please call Coastline at 508-999-6400.
URL:https://coastlinenb.org/event/savvy-caregiver-program-4/
END:VEVENT
BEGIN:VEVENT
DTSTART;TZID=UTC:20190501T130000
DTEND;TZID=UTC:20190501T140000
DTSTAMP:20260421T032817
CREATED:20190104T192516Z
LAST-MODIFIED:20190104T192516Z
UID:3974-1556715600-1556719200@coastlinenb.org
SUMMARY:A Matter of Balance
DESCRIPTION:A MATTER OF BALANCE: Many older adults experience concerns about falling and restrict their activities. A MATTER OF BALANCE is an award-winning\, eight-week Evidence-Based Program designed to manage falls and increase activity levels. The class will run on Tuesdays starting January 15\, 2019 for eight weeks at the Buttonwood Senior Center. The program is free. To learn more about this FREE workshop\, contact Tanisha J. Washington of Community Nurse Home Care at 508-717-0714 or twashington@communitynurse.com. The workshops are made possible by Title III Funding through Coastline Elderly Services and the Massachusetts Executive Office of Elder Affairs.
URL:https://coastlinenb.org/event/a-matter-of-balance-12/
END:VEVENT
BEGIN:VEVENT
DTSTART;TZID=UTC:20190424T133000
DTEND;TZID=UTC:20190424T153000
DTSTAMP:20260421T032817
CREATED:20190211T144126Z
LAST-MODIFIED:20190211T144126Z
UID:4076-1556112600-1556119800@coastlinenb.org
SUMMARY:Savvy Caregiver Program
DESCRIPTION:The Savvy Caregiver is a 12-hour training program delivered in two-hour sessions over a six-week period. \n\n\nThe program is focused on providing instructional material for Alzheimer’s and dementia caregivers. The program teaches the basic knowledge\, skills and attitudes needed to handle the challenges of caring for someone with Alzheimer’s disease. Results have shown the training program reduces Alzheimer caregiver’s distress effectively. \nThe Savvy Caregiver Program will run from April 10 to May 15 from 1:30 to 3:30 p.m. at Dartmouth Council on Aging. To register please call Coastline at 508-999-6400.
URL:https://coastlinenb.org/event/savvy-caregiver-program-3/
END:VEVENT
BEGIN:VEVENT
DTSTART;TZID=UTC:20190424T130000
DTEND;TZID=UTC:20190424T150000
DTSTAMP:20260421T032817
CREATED:20190104T192244Z
LAST-MODIFIED:20190104T192244Z
UID:3973-1556110800-1556118000@coastlinenb.org
SUMMARY:A Matter of Balance
DESCRIPTION:A MATTER OF BALANCE: Many older adults experience concerns about falling and restrict their activities. A MATTER OF BALANCE is an award-winning\, eight-week Evidence-Based Program designed to manage falls and increase activity levels. The class will run on Tuesdays starting January 15\, 2019 for eight weeks at the Buttonwood Senior Center. The program is free. To learn more about this FREE workshop\, contact Tanisha J. Washington of Community Nurse Home Care at 508-717-0714 or twashington@communitynurse.com. The workshops are made possible by Title III Funding through Coastline Elderly Services and the Massachusetts Executive Office of Elder Affairs.
URL:https://coastlinenb.org/event/a-matter-of-balance-11/
END:VEVENT
END:VCALENDAR